BEGIN:VCALENDAR
PRODID:-//HH//NONSGML Cascade Server//EN
VERSION:2.0
BEGIN:VTIMEZONE
TZID:America/New_York
BEGIN:DAYLIGHT
TZOFFSETFROM:-0500
TZOFFSETTO:-0400
TZNAME:EDT
DTSTART:19700308T020000
RRULE:FREQ=YEARLY;BYMONTH=3;BYDAY=2SU
END:DAYLIGHT
BEGIN:STANDARD
TZOFFSETFROM:-0400
TZOFFSETTO:-0500
TZNAME:EST
DTSTART:19701101T020000
RRULE:FREQ=YEARLY;BYMONTH=11;BYDAY=1SU
END:STANDARD
END:VTIMEZONE
BEGIN:VEVENT
DTSTART:20260502T140000
DTEND:${formatEnd}
DTSTAMP:20260421T111158
UID:b09046daac0a24044d7ed2f8c57143ba
CREATED:20260421T110218
DESCRIPTION:
LAST-MODIFIED:20260421T111040
LOCATION:
SEQUENCE:0
STATUS:CONFIRMED
SUMMARY:Eight Bells Concert
TRANSP:OPAQUE
END:VEVENT
END:VCALENDAR
